BEGIN:VCALENDAR
VERSION:2.0
PRODID:-//Bücherbüchse - ECPv6.15.15//NONSGML v1.0//EN
CALSCALE:GREGORIAN
METHOD:PUBLISH
X-WR-CALNAME:Bücherbüchse
X-ORIGINAL-URL:https://buecherbuechse.de
X-WR-CALDESC:Veranstaltungen für Bücherbüchse
REFRESH-INTERVAL;VALUE=DURATION:PT1H
X-Robots-Tag:noindex
X-PUBLISHED-TTL:PT1H
BEGIN:VTIMEZONE
TZID:Europe/Berlin
BEGIN:DAYLIGHT
TZOFFSETFROM:+0100
TZOFFSETTO:+0200
TZNAME:CEST
DTSTART:20250330T010000
END:DAYLIGHT
BEGIN:STANDARD
TZOFFSETFROM:+0200
TZOFFSETTO:+0100
TZNAME:CET
DTSTART:20251026T010000
END:STANDARD
BEGIN:DAYLIGHT
TZOFFSETFROM:+0100
TZOFFSETTO:+0200
TZNAME:CEST
DTSTART:20260329T010000
END:DAYLIGHT
BEGIN:STANDARD
TZOFFSETFROM:+0200
TZOFFSETTO:+0100
TZNAME:CET
DTSTART:20261025T010000
END:STANDARD
BEGIN:DAYLIGHT
TZOFFSETFROM:+0100
TZOFFSETTO:+0200
TZNAME:CEST
DTSTART:20270328T010000
END:DAYLIGHT
BEGIN:STANDARD
TZOFFSETFROM:+0200
TZOFFSETTO:+0100
TZNAME:CET
DTSTART:20271031T010000
END:STANDARD
END:VTIMEZONE
BEGIN:VEVENT
DTSTART;VALUE=DATE:20260414
DTEND;VALUE=DATE:20260422
DTSTAMP:20260421T123921
CREATED:20260213T090003Z
LAST-MODIFIED:20260327T123523Z
UID:1918219-1776124800-1776815999@buecherbuechse.de
SUMMARY:Selfcare Spezialbox
DESCRIPTION:
URL:https://buecherbuechse.de/versandeintrag/selfcare-spezialbox-2/
CATEGORIES:Spezialbüchse
END:VEVENT
BEGIN:VEVENT
DTSTART;VALUE=DATE:20260420
DTEND;VALUE=DATE:20260425
DTSTAMP:20260421T123921
CREATED:20251121T093322Z
LAST-MODIFIED:20251121T093459Z
UID:1849281-1776643200-1777075199@buecherbuechse.de
SUMMARY:Dark Descent #2 EXKLUSIVAUSGABE
DESCRIPTION:
URL:https://buecherbuechse.de/versandeintrag/dark-descent-2-exklusivausgabe/
CATEGORIES:Exklusivausgaben
END:VEVENT
BEGIN:VEVENT
DTSTART;VALUE=DATE:20260420
DTEND;VALUE=DATE:20260425
DTSTAMP:20260421T123921
CREATED:20260220T133541Z
LAST-MODIFIED:20260417T104215Z
UID:1929221-1776643200-1777075199@buecherbuechse.de
SUMMARY:My Blade\, Your Back Restock EXKLUSIVAUSGABE
DESCRIPTION:
URL:https://buecherbuechse.de/versandeintrag/my-blade-your-back-restock-exklusivausgabe/
CATEGORIES:Exklusivausgaben
END:VEVENT
BEGIN:VEVENT
DTSTART;VALUE=DATE:20260420
DTEND;VALUE=DATE:20260425
DTSTAMP:20260421T123921
CREATED:20260220T133605Z
LAST-MODIFIED:20260417T104222Z
UID:1929225-1776643200-1777075199@buecherbuechse.de
SUMMARY:Your Knife\, my Heart Restock EXKLUSIVAUSGABE
DESCRIPTION:
URL:https://buecherbuechse.de/versandeintrag/your-knife-my-heart-restock-exklusivausgabe/
CATEGORIES:Exklusivausgaben
END:VEVENT
BEGIN:VEVENT
DTSTART;VALUE=DATE:20260420
DTEND;VALUE=DATE:20260502
DTSTAMP:20260421T123921
CREATED:20260121T122410Z
LAST-MODIFIED:20260121T122410Z
UID:1901778-1776643200-1777679999@buecherbuechse.de
SUMMARY:Der Aschefeuerkönig EXKLUSIVAUSGABE
DESCRIPTION:
URL:https://buecherbuechse.de/versandeintrag/der-aschefeuerkoenig-exklusivausgabe/
CATEGORIES:Exklusivausgaben
END:VEVENT
BEGIN:VEVENT
DTSTART;VALUE=DATE:20260421
DTEND;VALUE=DATE:20260429
DTSTAMP:20260421T123921
CREATED:20260116T090000Z
LAST-MODIFIED:20260417T104305Z
UID:1893267-1776729600-1777420799@buecherbuechse.de
SUMMARY:The Wicked and the Damned #2 EXKLUSIVAUSGABE
DESCRIPTION:
URL:https://buecherbuechse.de/versandeintrag/the-wicked-and-the-damned-2-exklusivausgabe/
CATEGORIES:Exklusivausgaben
END:VEVENT
END:VCALENDAR